BEGIN:VCALENDAR
VERSION:2.0
PRODID:-//ChamberMaster//Event Calendar 2.0//EN
METHOD:PUBLISH
X-PUBLISHED-TTL:P3D
REFRESH-INTERVAL:P3D
CALSCALE:GREGORIAN
BEGIN:VEVENT
DTSTART:20260408T203000Z
DTEND:20260408T223000Z
X-MICROSOFT-CDO-ALLDAYEVENT:FALSE
SUMMARY:Business After Hours at Wegmans
DESCRIPTION:Join us at Business After Hours!\n\n*Online Registration is now closed however you can still attend! Make sure to stop by the Registration Table at the event.\n\n\n\nWe are excited to invite you to an evening of celebration and connection with our host\, Wegmans!\n\nWegmans Ithaca\, located at 500 South Meadow Street\, is a full service supermarket proudly serving the greater Ithaca community with a wide selection of fresh produce\, high quality meats and seafood\, artisan bakery items\, and convenient prepared foods\, along with pharmacy and catering services. Open daily from 6 a.m. to midnight\, the store is known for its commitment to quality\, service\, and community engagement. In addition to everyday value and weekly specials\, the Ithaca Wegmans regularly features seasonal and limited time offerings such as chef prepared meals\, entertaining trays\, and specialty items making it a go to destination for both everyday shopping and special occasions.\n\n\nAs always\, this event offers our members a special opportunity to share ideas and build connections. Held at various locations in Tompkins County\, this gathering is the perfect place to form long-lasting partnerships.\n\n\n\nThere will be a lovely spread of small bites and refreshments! South Hill Cider will be offering pours of their local ciders. Bring your business cards for an opportunity to network - we will have raffle tickets for the door prizes! \n\n\n\nThank you to our Business After Hours sponsors: Centralus Health\, Sciarabba Walker & Co.\, LLP\, Hilton Garden Inn Ithaca\, and 1 Step Coaching and Consulting.\n\n\n\nCan't attend? Tell us why here.
X-ALT-DESC;FMTTYPE=text/html:<p><span style="color:#000000\;"><span style="font-family:arial\;"><span style="font-size:16px\;"><strong>Join us at Business After Hours!</strong></span></span></span></p>\n\n<p><strong><u><span style="font-size:18px\;"><span style="color:#000000\;"><span style="font-family:arial\;">*</span></span><span data-teams="true">Online Registration is now closed however you can still attend! Make sure to stop by the Registration Table at the event.</span></span></u></strong><br />\n<br />\n<span style="color:#000000\;"><span style="font-family:arial\;"><span style="font-size:16px\;">We are excited to invite you to an evening of celebration and connection with our host\, <a href="https://www.wegmans.com/stores/ithaca-ny">Wegmans</a>!</span></span></span></p>\n\n<div style="border: 0px\; font-variant-numeric: inherit\; font-variant-east-asian: inherit\; font-variant-alternates: inherit\; font-variant-position: inherit\; font-variant-emoji: inherit\; font-stretch: inherit\; line-height: inherit\; font-optical-sizing: inherit\; font-size-adjust: inherit\; font-kerning: inherit\; font-feature-settings: inherit\; font-variation-settings: inherit\; margin: 0px\; padding: 0px\; vertical-align: baseline\; color: rgb(0\, 0\, 0)\;"><span style="color:#000000\;"><!--StartFragment--><span data-olk-copy-source="MessageBody" style="font-size: 10.5pt\; font-family: &quot\;Segoe UI&quot\;\, sans-serif\;"><span style="font-size:16px\;"><span style="font-family:arial\;">Wegmans Ithaca\, located at 500 South Meadow Street\, is a full&#8209\;service supermarket proudly serving the greater Ithaca community with a wide selection of fresh produce\, high&#8209\;quality meats and seafood\, artisan bakery items\, and convenient prepared foods\, along with pharmacy and catering services. Open daily from 6 a.m. to midnight\, the store is known for its commitment to quality\, service\, and community engagement. In addition to everyday value and weekly specials\, the Ithaca Wegmans regularly features seasonal and limited&#8209\;time offerings&mdash\;such as chef&#8209\;prepared meals\, entertaining trays\, and specialty items&mdash\;making it a go&#8209\;to destination for both everyday shopping and special occasions</span></span>.</span><!--EndFragment--></span></div>\n<br />\n<span style="color:#000000\;"><span style="font-family:arial\;"><span style="font-size:16px\;">As always\, this event offers our members a special opportunity to share ideas and build connections. Held at various locations in Tompkins County\, this gathering is the perfect place to form long-lasting partnerships.<br />\n<br />\nThere will be a lovely spread of small bites and refreshments! <a href="https://www.southhillcider.com/">South Hill Cider</a> will be offering pours of their local ciders. Bring your business cards for an opportunity to network - we will have raffle tickets for the door prizes!&nbsp\;</span></span></span><br />\n<br />\n<span style="font-family: arial\; font-size: 16px\;"><span style="color:#000000\;">Thank you to our Business After Hours sponsors</span>:&nbsp\;</span><a href="https://centralushealth.org/" style="font-family: arial\; font-size: 16px\;">Centralus Health</a><span style="font-family: arial\; font-size: 16px\;">\,&nbsp\;</span><a href="https://swcllp.com/" style="font-family: arial\; font-size: 16px\;">Sciarabba Walker &amp\; Co.\, LLP</a><span style="font-family: arial\; font-size: 16px\;">\, <a href="https://www.guestreservations.com/hilton-garden-inn-ithaca/booking?_gl=1*f8g2cz*_up*MQ..*_gs*MQ..&amp\;gclid=CjwKCAjwyYPOBhBxEiwAgpT8PwWkw6UtAnm12RT5ClqFdFdgAlZDr3Tff5iypzzrt1yfFOeG7xX85hoCsXoQAvD_BwE">Hilton Garden Inn Ithaca</a>\, and&nbsp\;</span><a href="https://1stepcc.com/" style="font-family: arial\; font-size: 16px\;">1 Step Coaching and Consulting</a><span style="font-family: arial\; font-size: 16px\;">.</span><br />\n<br style="color: rgb(0\, 0\, 0)\; font-family: arial\, sans-serif\; font-size: 16px\;" />\n<span style="color: rgb(0\, 0\, 0)\; font-family: arial\, sans-serif\; font-size: 14px\;">Can&#39\;t attend?&nbsp\;<a href="https://forms.office.com/Pages/ResponsePage.aspx?id=CpsvCm9mRUO1Idw_E67p6q5DkkMBP6dFptC8NllqB9JUMUNGTlNCS1dMNkNXSzBZQ1FWS0VCNlBTUi4u">Tell us why here.</a></span>
LOCATION:Wegmans 500 S. Meadow St. Ithaca\, NY 14850 *This venue is ADA accessible\, elevator to upstairs cafe space
UID:e.1313.194109
SEQUENCE:3
DTSTAMP:20260425T183808Z
URL:https://business.tompkinschamber.org/events/details/business-after-hours-at-wegmans-194109
END:VEVENT

END:VCALENDAR
