BEGIN:VCALENDAR
VERSION:2.0
PRODID:-//ChamberMaster//Event Calendar 2.0//EN
METHOD:PUBLISH
X-PUBLISHED-TTL:P3D
REFRESH-INTERVAL:P3D
CALSCALE:GREGORIAN
BEGIN:VEVENT
DTSTART:20240927T133000Z
DTEND:20240927T143000Z
X-MICROSOFT-CDO-ALLDAYEVENT:FALSE
SUMMARY:Coffee Talk at the Chamber: Manufacturing\, Software\, & Technology
DESCRIPTION:Join the Chamber Team and peers in your industry for fresh coffee & conversation. This month we invite professionals from the Manufacturing\, Software\, and Technology industries to connect with friends & colleagues and expand your network in this casual environment.\n\n\n\nThank you to Moylan Safety Services for sponsoring this industry discussion\, Just Be Cause Center for sponsoring the series\, and Gimme Coffee for providing the coffee and pastries!
X-ALT-DESC;FMTTYPE=text/html:<span style="box-sizing: border-box\; font-family: Arial\, serif\; font-size: 14px\; color: rgb(26\, 25\, 26)\;">Join the Chamber Team and peers in your industry for fresh coffee &amp\; conversation.&nbsp\;This month we invite professionals from the Manufacturing\, Software\, and Technology industries to connect with friends &amp\; colleagues and expand your network in this casual environment.<br />\n<br />\nThank you to <a href="https://moylansafety.com/">Moylan Safety Services</a> for sponsoring this industry discussion\, <a href="http://www.jbccenter.com/">Just Be Cause Center</a> for sponsoring the series\, and&nbsp\;<a href="https://gimmecoffee.com/">Gimme Coffee</a> for providing the coffee and pastries!</span>
LOCATION:Tompkins Chamber 124 Brindley St Ithaca\, NY 14850
UID:e.1313.193215
SEQUENCE:3
DTSTAMP:20260425T115301Z
URL:https://business.tompkinschamber.org/events/details/coffee-talk-at-the-chamber-manufacturing-software-technology-193215
END:VEVENT

END:VCALENDAR
