BEGIN:VCALENDAR
VERSION:2.0
PRODID:-//ChamberMaster//Event Calendar 2.0//EN
METHOD:PUBLISH
X-PUBLISHED-TTL:P3D
REFRESH-INTERVAL:P3D
CALSCALE:GREGORIAN
BEGIN:VEVENT
DTSTART:20240909T160000Z
DTEND:20240909T171500Z
X-MICROSOFT-CDO-ALLDAYEVENT:FALSE
SUMMARY:Government & Community Affairs Roundtable - September 2024
DESCRIPTION:This month's discussion will include a discussion with staff from Southern Tier 8 | Southern Tier East Regional Planning Board. \n\n\n\nJoin Executive Director Jen Gregory and Director of Economic Development Evan Maslin for a conversation regarding regional resources available through Southern Tier 8\, as well as the economic development goals and needs of our area.\n\n\n\nOur Government & Community Affairs Roundtable features discussions focused on key state\, local\, and federal issues. Open to any Chamber member or municipal partner who would like to share ideas and take action.\n\n\n\nHybrid/zoom option will be available upon request. Please make note when you register.\n\n\n\nThank you to our Roundtable series sponsors: Borgwarner\, M&T Bank\, and The Waterfront Cafe.
X-ALT-DESC;FMTTYPE=text/html:<strong>This month&#39\;s discussion will include a discussion with staff from Southern Tier 8 | Southern Tier East Regional Planning Board. </strong><br />\n<br />\nJoin Executive Director Jen Gregory and Director of Economic Development Evan Maslin for a conversation regarding regional resources available through Southern Tier 8\, as well as the economic development goals and needs of our area.<br />\n<br />\nOur Government &amp\; Community Affairs Roundtable features discussions focused on key state\, local\, and federal issues. Open to any Chamber member or municipal partner who would like to share ideas and take action.<br />\n<br />\nHybrid/zoom option will be available upon request. Please make note when you register.<br />\n<br />\nThank you to our Roundtable series sponsors: Borgwarner\, M&amp\;T Bank\, and The Waterfront Cafe.
LOCATION:Tompkins Chamber 124 Brindley Street Ithaca\, NY 14850
UID:e.1313.193226
SEQUENCE:3
DTSTAMP:20260424T234555Z
URL:https://business.tompkinschamber.org/events/details/government-community-affairs-roundtable-september-2024-193226
END:VEVENT

END:VCALENDAR
